BEGIN:VCALENDAR
VERSION:2.0
PRODID:-//City of Elizabethtown - ECPv6.15.20//NONSGML v1.0//EN
CALSCALE:GREGORIAN
METHOD:PUBLISH
X-WR-CALNAME:City of Elizabethtown
X-ORIGINAL-URL:https://elizabethtownky.org
X-WR-CALDESC:Events for City of Elizabethtown
REFRESH-INTERVAL;VALUE=DURATION:PT1H
X-Robots-Tag:noindex
X-PUBLISHED-TTL:PT1H
BEGIN:VTIMEZONE
TZID:UTC
BEGIN:STANDARD
TZOFFSETFROM:+0000
TZOFFSETTO:+0000
TZNAME:UTC
DTSTART:20200101T000000
END:STANDARD
END:VTIMEZONE
BEGIN:VEVENT
DTSTART;TZID=UTC:20240612T183000
DTEND;TZID=UTC:20240612T203000
DTSTAMP:20260422T171022
CREATED:20240531T201236Z
LAST-MODIFIED:20240531T201236Z
UID:5208-1718217000-1718224200@elizabethtownky.org
SUMMARY:Lawn Party
DESCRIPTION:
URL:https://elizabethtownky.org/event/lawn-party/
LOCATION:The Bandstand\, 220 Blue Heron Way\, Elizabethtown\, KY\, 42701\, United States
CATEGORIES:Concert
ORGANIZER;CN="City of Elizabethtown Events Department":MAILTO:priscilla.scarborough@elizabethtown.gov
END:VEVENT
BEGIN:VEVENT
DTSTART;TZID=UTC:20240511T160000
DTEND;TZID=UTC:20240511T210000
DTSTAMP:20260422T171022
CREATED:20240307T211748Z
LAST-MODIFIED:20240307T211801Z
UID:4967-1715443200-1715461200@elizabethtownky.org
SUMMARY:Etown Wine Fest
DESCRIPTION:
URL:https://elizabethtownky.org/event/etown-wine-fest-3/
LOCATION:The Bandstand\, 220 Blue Heron Way\, Elizabethtown\, KY\, 42701\, United States
CATEGORIES:Event
ORGANIZER;CN="City of Elizabethtown Events Department":MAILTO:priscilla.scarborough@elizabethtown.gov
END:VEVENT
BEGIN:VEVENT
DTSTART;TZID=UTC:20231220T120000
DTEND;TZID=UTC:20231220T170000
DTSTAMP:20260422T171022
CREATED:20231219T012057Z
LAST-MODIFIED:20231219T012057Z
UID:4495-1703073600-1703091600@elizabethtownky.org
SUMMARY:Santa Claus is Coming to Etown
DESCRIPTION:
URL:https://elizabethtownky.org/event/santa-claus-is-coming-to-etown/
LOCATION:City of Elizabethtown Events Department\, KY\, United States
CATEGORIES:Event
ORGANIZER;CN="City of Elizabethtown Events Department":MAILTO:priscilla.scarborough@elizabethtown.gov
END:VEVENT
BEGIN:VEVENT
DTSTART;TZID=UTC:20231201T190000
DTEND;TZID=UTC:20231201T210000
DTSTAMP:20260422T171022
CREATED:20231019T184817Z
LAST-MODIFIED:20231019T184817Z
UID:4299-1701457200-1701464400@elizabethtownky.org
SUMMARY:LIGHT-UP ETOWN Parade & Tree Lighting
DESCRIPTION:
URL:https://elizabethtownky.org/event/light-up-etown-parade-tree-lighting/
LOCATION:Downtown Elizabethtown\, Elizabethtown\, 42701\, United States
CATEGORIES:Event
ATTACH;FMTTYPE=image/png:https://elizabethtownky.org/wp-content/uploads/2023/10/Light-up-Etown-logo-500x500-1.png
ORGANIZER;CN="City of Elizabethtown Events Department":MAILTO:priscilla.scarborough@elizabethtown.gov
END:VEVENT
BEGIN:VEVENT
DTSTART;TZID=UTC:20231103T160000
DTEND;TZID=UTC:20231103T160000
DTSTAMP:20260422T171022
CREATED:20231026T160509Z
LAST-MODIFIED:20231026T160522Z
UID:4313-1699027200-1699027200@elizabethtownky.org
SUMMARY:Children's Christmas in the Park Poster Contest
DESCRIPTION:
URL:https://elizabethtownky.org/event/childrens-christmas-in-the-park-poster-contest/
LOCATION:City of Elizabethtown Events Department\, KY\, United States
CATEGORIES:Event
ORGANIZER;CN="City of Elizabethtown Events Department":MAILTO:priscilla.scarborough@elizabethtown.gov
END:VEVENT
BEGIN:VEVENT
DTSTART;TZID=UTC:20230930T100000
DTEND;TZID=UTC:20230930T223000
DTSTAMP:20260422T171022
CREATED:20230922T213209Z
LAST-MODIFIED:20230922T213209Z
UID:4236-1696068000-1696113000@elizabethtownky.org
SUMMARY:Heartland Harvest Festival
DESCRIPTION:All-Day Community Event \nWoman’s Club Breakfast – 5K – Fishing Tournament – Fishing Derby – Pickleball Tournament – Fall Fest  –  Buddy Walk  –  Pumpkin Contest \nDowntown Street Festival with Craft Vendors\, Food Trucks\, FREE Petting Zoo\, FREE Bounce Houses\, FREE tumbling clinic\, Hinton’s Harvest Land & Farmer’s Market.  All Day music & local performances. \nFREE John Michael Montgomery & Joe Nichols concert at the Justice Center located at 120 East Dixie Avenue\, Elizabethtown. \nGates open at 6pm with show starting at 7pm.  Bring your chair  |  NO COOLERS
URL:https://elizabethtownky.org/event/heartland-harvest-festival/
LOCATION:Downtown Elizabethtown\, Elizabethtown\, 42701\, United States
ORGANIZER;CN="City of Elizabethtown Events Department":MAILTO:priscilla.scarborough@elizabethtown.gov
END:VEVENT
BEGIN:VEVENT
DTSTART;TZID=UTC:20230906T170000
DTEND;TZID=UTC:20230906T210000
DTSTAMP:20260422T171022
CREATED:20230901T153952Z
LAST-MODIFIED:20230901T153952Z
UID:4172-1694019600-1694034000@elizabethtownky.org
SUMMARY:Lawn Party at The Bandstand
DESCRIPTION:
URL:https://elizabethtownky.org/event/lawn-party-at-the-bandstand-2/
LOCATION:Freeman Lake Park\, Blue Heron Way\, Elizabethtown\, KY\, 42701\, United States
CATEGORIES:Event
ORGANIZER;CN="City of Elizabethtown Events Department":MAILTO:priscilla.scarborough@elizabethtown.gov
END:VEVENT
BEGIN:VEVENT
DTSTART;TZID=UTC:20230826T100000
DTEND;TZID=UTC:20230826T233000
DTSTAMP:20260422T171022
CREATED:20230802T155724Z
LAST-MODIFIED:20230802T160254Z
UID:4057-1693044000-1693092600@elizabethtownky.org
SUMMARY:Heartland Homecoming Parade
DESCRIPTION:Join us for the 40th Annual Heartland Homecoming Parade on Saturday\, August 26\, 2023 at 10:00am. \nThe parade step-off beginning is on The Square in Downtown Elizabethtown.  The parade then travels northbound on West Dixie Avenue\, concluding at the intersection of West Dixie Avenue & St. John Road.
URL:https://elizabethtownky.org/event/heartland-homecoming-parade-4/
LOCATION:Downtown Elizabethtown\, Elizabethtown\, 42701\, United States
CATEGORIES:Event
ORGANIZER;CN="City of Elizabethtown Events Department":MAILTO:priscilla.scarborough@elizabethtown.gov
END:VEVENT
BEGIN:VEVENT
DTSTART;TZID=UTC:20230816T170000
DTEND;TZID=UTC:20230816T210000
DTSTAMP:20260422T171022
CREATED:20230802T144950Z
LAST-MODIFIED:20230809T152402Z
UID:4042-1692205200-1692219600@elizabethtownky.org
SUMMARY:Lawn Party at The Bandstand
DESCRIPTION:Lawn Party at The Bandstand is a fun FREE CONCERT event held at Freeman Lake Park. \nAugust 9th’s Lawn Party ahs been POSTPONED!! \nThe New Date is Wednesday\, August 16\, 2023 \nGate opens at 5pm  –  Matt McDougal performs at 6:00pm  –  D. Boone Pittman & the Fugitives take the stage at 7:30pm \nFREE CONCERT – FOOD TRUCKS  –  LAWN GAMES  – BEER & WINE \nDon’t forget to bring your bag chair/blanket! No coolers or outside alcoholic beverages \nTip: enter via the Blue Heron Way entrance
URL:https://elizabethtownky.org/event/lawn-party-at-the-bandstand/
LOCATION:Freeman Lake Park\, Blue Heron Way\, Elizabethtown\, KY\, 42701\, United States
CATEGORIES:Event
ORGANIZER;CN="City of Elizabethtown Events Department":MAILTO:priscilla.scarborough@elizabethtown.gov
END:VEVENT
BEGIN:VEVENT
DTSTART;TZID=UTC:20221123T180000
DTEND;TZID=UTC:20230101T230000
DTSTAMP:20260422T171022
CREATED:20220404T193408Z
LAST-MODIFIED:20220404T193408Z
UID:2956-1669226400-1672614000@elizabethtownky.org
SUMMARY:Christmas in the Park
DESCRIPTION:Come enjoy the Christmas season and spirit by driving through over 120+ light displays provided by local companies all saying “Merry Christmas” in their own way. It’s free to drive through but donations are gladly accepted. Park is open nightly November 23-Jan. 1 6:00p-11:00p. For more info or to participate as a vendor\, go to www.etownevents.com.
URL:https://elizabethtownky.org/event/christmas-in-the-park-3/
LOCATION:Freeman Lake Park\, Blue Heron Way\, Elizabethtown\, KY\, 42701\, United States
ORGANIZER;CN="City of Elizabethtown Events Department":MAILTO:priscilla.scarborough@elizabethtown.gov
END:VEVENT
BEGIN:VEVENT
DTSTART;TZID=UTC:20220917T170000
DTEND;TZID=UTC:20220917T220000
DTSTAMP:20260422T171022
CREATED:20220404T193138Z
LAST-MODIFIED:20220404T193138Z
UID:2955-1663434000-1663452000@elizabethtownky.org
SUMMARY:Etown Wine Fest
DESCRIPTION:Welcome to the annual Etown Wine Fest! Where you can come enjoy Kentucky wineries at their finest! Get a tasting of flavors that you’ve never experienced before! There will be bourbon\, California and wines from Italy\, live music\, best of food\, and in the beautiful setting of Freeman Lake Park. Tickets on sale April 22nd. Go to www. etownevents.com to purchase your tickets today!
URL:https://elizabethtownky.org/event/etown-wine-fest-2/
LOCATION:Freeman Lake Park\, Blue Heron Way\, Elizabethtown\, KY\, 42701\, United States
ORGANIZER;CN="City of Elizabethtown Events Department":MAILTO:priscilla.scarborough@elizabethtown.gov
END:VEVENT
BEGIN:VEVENT
DTSTART;TZID=UTC:20220827T080000
DTEND;TZID=UTC:20220827T120000
DTSTAMP:20260422T171022
CREATED:20220404T190532Z
LAST-MODIFIED:20220404T190532Z
UID:2954-1661587200-1661601600@elizabethtownky.org
SUMMARY:Heartland Homecoming Parade
DESCRIPTION:Join us for the annual Heartland Homecoming Parade downtown Etown! Over 10K people line the streets to see friends\, family\, and colleagues! This is where we all work\, live\, and play! Join us as we celebrate our small town-Hallmark feel where we love on our city! To participate go to www.etownevents.com and click on parade logo to apply!
URL:https://elizabethtownky.org/event/heartland-homecoming-parade-3/
LOCATION:Downtown Elizabethtown\, Elizabethtown\, 42701\, United States
ORGANIZER;CN="City of Elizabethtown Events Department":MAILTO:priscilla.scarborough@elizabethtown.gov
END:VEVENT
BEGIN:VEVENT
DTSTART;TZID=UTC:20220727T130000
DTEND;TZID=UTC:20220727T200000
DTSTAMP:20260422T171022
CREATED:20220606T200658Z
LAST-MODIFIED:20220606T200658Z
UID:3068-1658926800-1658952000@elizabethtownky.org
SUMMARY:Wonderful Wednesday's @The State: Cars
DESCRIPTION:$1 movies sponsored by West Point Bank; showings @1p and 7p. Box office opens 1 hour prior to showtime.
URL:https://elizabethtownky.org/event/wonderful-wednesdays-the-state-cars/
LOCATION:Historic State Theater\, 209 W. Dixie Avenue\, Elizabethtown\, 42701\, United States
CATEGORIES:Event
ORGANIZER;CN="City of Elizabethtown Events Department":MAILTO:priscilla.scarborough@elizabethtown.gov
END:VEVENT
BEGIN:VEVENT
DTSTART;TZID=UTC:20220720T130000
DTEND;TZID=UTC:20220720T200000
DTSTAMP:20260422T171022
CREATED:20220606T200551Z
LAST-MODIFIED:20220606T200551Z
UID:3067-1658322000-1658347200@elizabethtownky.org
SUMMARY:Wonderful Wednesday's @The State: Monster's University
DESCRIPTION:$1 movies sponsored by West Point Bank; showings @1p and 7p. Box office opens 1 hour prior to showtime.
URL:https://elizabethtownky.org/event/wonderful-wednesdays-the-state-monsters-university/
LOCATION:Historic State Theater\, 209 W. Dixie Avenue\, Elizabethtown\, 42701\, United States
CATEGORIES:Event
ORGANIZER;CN="City of Elizabethtown Events Department":MAILTO:priscilla.scarborough@elizabethtown.gov
END:VEVENT
BEGIN:VEVENT
DTSTART;TZID=UTC:20220713T130000
DTEND;TZID=UTC:20220713T200000
DTSTAMP:20260422T171022
CREATED:20220606T200410Z
LAST-MODIFIED:20220606T200410Z
UID:3066-1657717200-1657742400@elizabethtownky.org
SUMMARY:Wonderful Wednesday's @The State: The Goonies
DESCRIPTION:$1 movies sponsored by West Point Bank; showing @1p and 7p. Box office opens 1 hour prior to showtime.
URL:https://elizabethtownky.org/event/wonderful-wednesdays-the-state-the-goonies/
LOCATION:Historic State Theater\, 209 W. Dixie Avenue\, Elizabethtown\, 42701\, United States
CATEGORIES:Event
ORGANIZER;CN="City of Elizabethtown Events Department":MAILTO:priscilla.scarborough@elizabethtown.gov
END:VEVENT
BEGIN:VEVENT
DTSTART;TZID=UTC:20220706T130000
DTEND;TZID=UTC:20220706T200000
DTSTAMP:20260422T171022
CREATED:20220606T200255Z
LAST-MODIFIED:20220606T200255Z
UID:3065-1657112400-1657137600@elizabethtownky.org
SUMMARY:Wonderful Wednesday's @The State: Finding Nemo
DESCRIPTION:$1 movies sponsored by West Point Bank; showings @1p and 7p. Box office opens 1 hour prior to showtime.
URL:https://elizabethtownky.org/event/wonderful-wednesdays-the-state-finding-nemo/
LOCATION:Historic State Theater\, 209 W. Dixie Avenue\, Elizabethtown\, 42701\, United States
CATEGORIES:Event
ORGANIZER;CN="City of Elizabethtown Events Department":MAILTO:priscilla.scarborough@elizabethtown.gov
END:VEVENT
BEGIN:VEVENT
DTSTART;TZID=UTC:20220629T130000
DTEND;TZID=UTC:20220629T200000
DTSTAMP:20260422T171022
CREATED:20220606T200147Z
LAST-MODIFIED:20220606T200147Z
UID:3064-1656507600-1656532800@elizabethtownky.org
SUMMARY:Wonderful Wednesday's @The State: Honey I Shrunk the Kids
DESCRIPTION:$1 movies sponsored by West Point Bank; shows @1p and 7p. Box office opens 1 hour before showtime.
URL:https://elizabethtownky.org/event/wonderful-wednesdays-the-state-honey-i-shrunk-the-kids/
LOCATION:Historic State Theater\, 209 W. Dixie Avenue\, Elizabethtown\, 42701\, United States
CATEGORIES:Event
ORGANIZER;CN="City of Elizabethtown Events Department":MAILTO:priscilla.scarborough@elizabethtown.gov
END:VEVENT
BEGIN:VEVENT
DTSTART;TZID=UTC:20220622T130000
DTEND;TZID=UTC:20220622T200000
DTSTAMP:20260422T171022
CREATED:20220606T195801Z
LAST-MODIFIED:20220606T200026Z
UID:3062-1655902800-1655928000@elizabethtownky.org
SUMMARY:Wonderful Wednesday's @The State: Frozen 2
DESCRIPTION:$1 movies sponsored by West Point Bank; showing @1p and 7p. Box office opens 1 hour before movie showing.
URL:https://elizabethtownky.org/event/wonderful-wednesdays-the-state-frozen-ii/
LOCATION:Historic State Theater\, 209 W. Dixie Avenue\, Elizabethtown\, 42701\, United States
CATEGORIES:Event
ORGANIZER;CN="City of Elizabethtown Events Department":MAILTO:priscilla.scarborough@elizabethtown.gov
END:VEVENT
BEGIN:VEVENT
DTSTART;TZID=UTC:20220615T130000
DTEND;TZID=UTC:20220615T200000
DTSTAMP:20260422T171022
CREATED:20220606T195644Z
LAST-MODIFIED:20220606T195644Z
UID:3061-1655298000-1655323200@elizabethtownky.org
SUMMARY:Wonderful Wednesday's @The State: Moana
DESCRIPTION:$1 movies sponsored by West Point Bank; showing @1p and 7P\, box office opens 1 hour before movie showing.
URL:https://elizabethtownky.org/event/wonderful-wednesdays-the-state-moana/
LOCATION:Historic State Theater\, 209 W. Dixie Avenue\, Elizabethtown\, 42701\, United States
CATEGORIES:Event
ORGANIZER;CN="City of Elizabethtown Events Department":MAILTO:priscilla.scarborough@elizabethtown.gov
END:VEVENT
BEGIN:VEVENT
DTSTART;TZID=UTC:20220608T130000
DTEND;TZID=UTC:20220608T200000
DTSTAMP:20260422T171022
CREATED:20220606T195518Z
LAST-MODIFIED:20220606T195518Z
UID:3060-1654693200-1654718400@elizabethtownky.org
SUMMARY:Wonderful Wednesday's @The State: Clifford The Big Red Dog
DESCRIPTION:$1 movies sponsored by West Point Bank @1P and 7P. Box office opens 1 hour before movie showing.
URL:https://elizabethtownky.org/event/wonderful-wednesdays-the-state-clifford-the-big-red-dog/
LOCATION:Historic State Theater\, 209 W. Dixie Avenue\, Elizabethtown\, 42701\, United States
ORGANIZER;CN="City of Elizabethtown Events Department":MAILTO:priscilla.scarborough@elizabethtown.gov
END:VEVENT
BEGIN:VEVENT
DTSTART;TZID=UTC:20220528T110000
DTEND;TZID=UTC:20220528T220000
DTSTAMP:20260422T171022
CREATED:20220404T185412Z
LAST-MODIFIED:20220404T185412Z
UID:2950-1653735600-1653775200@elizabethtownky.org
SUMMARY:BBQ\, Bands & Bikes Festival
DESCRIPTION:Don’t miss the BBQ\, Bands & Bikes Festival this Memorial Day weekend on Saturday\, May 28th.  The streets of downtown Elizabethtown will be buzzing with the sight of motorcycles\, overwhelming smell of BBQ\, and sounds of music on every turn. Headlining that evening is Resurrection a Tribute to Journey on the Square of downtown in the middle of it all. The Thunder Into Etown Motorcycle Ride\, benefiting Crusade for Children\, will take place that morning and ride into the downtown streets to kick off the event. The free Kid’s Zone makes it fun for the entire family! BBQ\, Bands & Bikes\, Saturday May 28th in downtown Elizabethtown. Learn more at etownevents.com.
URL:https://elizabethtownky.org/event/bbq-bands-bikes-festival/
LOCATION:Downtown Elizabethtown\, Elizabethtown\, 42701\, United States
ORGANIZER;CN="City of Elizabethtown Events Department":MAILTO:priscilla.scarborough@elizabethtown.gov
END:VEVENT
BEGIN:VEVENT
DTSTART;TZID=UTC:20211210T180000
DTEND;TZID=UTC:20211210T220000
DTSTAMP:20260422T171022
CREATED:20210309T174013Z
LAST-MODIFIED:20210309T174013Z
UID:2165-1639159200-1639173600@elizabethtownky.org
SUMMARY:Abound Credit Union Presents Aaron Tippin in Concert
DESCRIPTION:Join us for the Abound Credit Union Concert Series Presenting Aaron Tippin in concert at the Historic State Theater. Tickets on sale now!
URL:https://elizabethtownky.org/event/abound-credit-union-presents-aaron-tippin-in-concert-2/
LOCATION:Historic State Theater\, 209 W. Dixie Avenue\, Elizabethtown\, 42701\, United States
ORGANIZER;CN="City of Elizabethtown Events Department":MAILTO:priscilla.scarborough@elizabethtown.gov
END:VEVENT
BEGIN:VEVENT
DTSTART;TZID=UTC:20211106T190000
DTEND;TZID=UTC:20211106T220000
DTSTAMP:20260422T171022
CREATED:20210309T173846Z
LAST-MODIFIED:20210309T173846Z
UID:2164-1636225200-1636236000@elizabethtownky.org
SUMMARY:Abound Credit Union Presents Chicks with Hits
DESCRIPTION:Join is for the Abound Credit Union Concert Series Presenting Chicks with Hits. It’s going to be a night full of “hits” by country legends Pam Tillis\, Terri Clark\, and Suzy Bogguss! Tickets on sale now. Doors open at 6pm with local concert opener Ryne Brashear!
URL:https://elizabethtownky.org/event/abound-credit-union-presents-chicks-with-hits/
LOCATION:Historic State Theater\, 209 W. Dixie Avenue\, Elizabethtown\, 42701\, United States
ORGANIZER;CN="City of Elizabethtown Events Department":MAILTO:priscilla.scarborough@elizabethtown.gov
END:VEVENT
BEGIN:VEVENT
DTSTART;TZID=UTC:20210918T170000
DTEND;TZID=UTC:20210918T220000
DTSTAMP:20260422T171022
CREATED:20210309T173548Z
LAST-MODIFIED:20210914T164937Z
UID:2162-1631984400-1632002400@elizabethtownky.org
SUMMARY:Etown Wine Fest
DESCRIPTION:Join us at the 6th Annual Etown Wine Fest happening on Saturday\, September 18th at Freeman Lake Park. Tickets on sale NOW!
URL:https://elizabethtownky.org/event/etown-wine-fest/
LOCATION:Freeman Lake Park\, Blue Heron Way\, Elizabethtown\, KY\, 42701\, United States
ORGANIZER;CN="City of Elizabethtown Events Department":MAILTO:priscilla.scarborough@elizabethtown.gov
END:VEVENT
BEGIN:VEVENT
DTSTART;TZID=UTC:20210828T100000
DTEND;TZID=UTC:20210828T120000
DTSTAMP:20260422T171022
CREATED:20210607T200643Z
LAST-MODIFIED:20210607T200643Z
UID:2424-1630144800-1630152000@elizabethtownky.org
SUMMARY:Heartland Homecoming Parade
DESCRIPTION:Join us for the annual Heartland Homecoming Parade downtown Etown! Step off will take place on the Square at 10:00 AM. Over 75 parade entries will travel north on 31W to St. John Rd. You don’t want to miss this huge celebration! Wear your superhero outfit to join in the theme of this year’s parade. Go to etownevents.com and click on parade logo to register your entry.
URL:https://elizabethtownky.org/event/heartland-homecoming-parade-2/
LOCATION:Downtown Elizabethtown\, Elizabethtown\, 42701\, United States
CATEGORIES:Event
ORGANIZER;CN="City of Elizabethtown Events Department":MAILTO:priscilla.scarborough@elizabethtown.gov
END:VEVENT
BEGIN:VEVENT
DTSTART;TZID=UTC:20210729T130000
DTEND;TZID=UTC:20210729T150000
DTSTAMP:20260422T171022
CREATED:20210607T200008Z
LAST-MODIFIED:20210607T200008Z
UID:2422-1627563600-1627570800@elizabethtownky.org
SUMMARY:Summer Movies @the State
DESCRIPTION:Join us for $1 movies every Tues and Thurs sponsored by T-Mobile. Click to see line up!
URL:https://elizabethtownky.org/event/summer-movies-the-state-17/
LOCATION:Historic State Theater\, 209 W. Dixie Avenue\, Elizabethtown\, 42701\, United States
CATEGORIES:Event
ORGANIZER;CN="City of Elizabethtown Events Department":MAILTO:priscilla.scarborough@elizabethtown.gov
END:VEVENT
BEGIN:VEVENT
DTSTART;TZID=UTC:20210727T130000
DTEND;TZID=UTC:20210727T150000
DTSTAMP:20260422T171022
CREATED:20210607T195915Z
LAST-MODIFIED:20210607T195915Z
UID:2421-1627390800-1627398000@elizabethtownky.org
SUMMARY:Summer Movies @the State
DESCRIPTION:Join us for $1 movies every Tues and Thurs sponsored by T-Mobile. Click to see line up.
URL:https://elizabethtownky.org/event/summer-movies-the-state-16/
LOCATION:Historic State Theater\, 209 W. Dixie Avenue\, Elizabethtown\, 42701\, United States
CATEGORIES:Event
ORGANIZER;CN="City of Elizabethtown Events Department":MAILTO:priscilla.scarborough@elizabethtown.gov
END:VEVENT
BEGIN:VEVENT
DTSTART;TZID=UTC:20210722T130000
DTEND;TZID=UTC:20210722T150000
DTSTAMP:20260422T171022
CREATED:20210607T195759Z
LAST-MODIFIED:20210607T195759Z
UID:2420-1626958800-1626966000@elizabethtownky.org
SUMMARY:Summer Movies @the State
DESCRIPTION:Join us every Tues and Thurs for $1 movies sponsored by T-Mobile! Click to see line up.
URL:https://elizabethtownky.org/event/summer-movies-the-state-15/
LOCATION:Historic State Theater\, 209 W. Dixie Avenue\, Elizabethtown\, 42701\, United States
CATEGORIES:Event
ORGANIZER;CN="City of Elizabethtown Events Department":MAILTO:priscilla.scarborough@elizabethtown.gov
END:VEVENT
BEGIN:VEVENT
DTSTART;TZID=UTC:20210720T130000
DTEND;TZID=UTC:20210720T150000
DTSTAMP:20260422T171022
CREATED:20210607T195608Z
LAST-MODIFIED:20210607T195608Z
UID:2418-1626786000-1626793200@elizabethtownky.org
SUMMARY:Summer Movies @the State
DESCRIPTION:Join us every Tues and Thurs for $1 movies sponsored by T-Mobile. Click to see line up.
URL:https://elizabethtownky.org/event/summer-movies-the-state-13/
LOCATION:Historic State Theater\, 209 W. Dixie Avenue\, Elizabethtown\, 42701\, United States
CATEGORIES:Event
ORGANIZER;CN="City of Elizabethtown Events Department":MAILTO:priscilla.scarborough@elizabethtown.gov
END:VEVENT
BEGIN:VEVENT
DTSTART;TZID=UTC:20210715T130000
DTEND;TZID=UTC:20210715T150000
DTSTAMP:20260422T171022
CREATED:20210607T195505Z
LAST-MODIFIED:20210607T195505Z
UID:2417-1626354000-1626361200@elizabethtownky.org
SUMMARY:Summer Movies @the State
DESCRIPTION:Join us every Tues and Thurs for $1 movies sponsored by T-Mobile. Click to see line up!
URL:https://elizabethtownky.org/event/summer-movies-the-state-12/
LOCATION:Historic State Theater\, 209 W. Dixie Avenue\, Elizabethtown\, 42701\, United States
CATEGORIES:Event
ORGANIZER;CN="City of Elizabethtown Events Department":MAILTO:priscilla.scarborough@elizabethtown.gov
END:VEVENT
END:VCALENDAR