BEGIN:VCALENDAR
VERSION:2.0
PRODID:-//City of Elizabethtown - ECPv6.15.20//NONSGML v1.0//EN
CALSCALE:GREGORIAN
METHOD:PUBLISH
X-WR-CALNAME:City of Elizabethtown
X-ORIGINAL-URL:https://elizabethtownky.org
X-WR-CALDESC:Events for City of Elizabethtown
REFRESH-INTERVAL;VALUE=DURATION:PT1H
X-Robots-Tag:noindex
X-PUBLISHED-TTL:PT1H
BEGIN:VTIMEZONE
TZID:UTC
BEGIN:STANDARD
TZOFFSETFROM:+0000
TZOFFSETTO:+0000
TZNAME:UTC
DTSTART:20220101T000000
END:STANDARD
END:VTIMEZONE
BEGIN:VEVENT
DTSTART;TZID=UTC:20230831T190000
DTEND;TZID=UTC:20230831T203000
DTSTAMP:20260422T201609
CREATED:20230802T151528Z
LAST-MODIFIED:20230802T151528Z
UID:4048-1693508400-1693513800@elizabethtownky.org
SUMMARY:Concert: Mark Chesnutt
DESCRIPTION:CLICK FOR INFO & TICKETING
URL:https://elizabethtownky.org/event/concert-mark-chesnutt/
LOCATION:Historic State Theater\, 209 W. Dixie Avenue\, Elizabethtown\, 42701\, United States
CATEGORIES:Concert
ORGANIZER;CN="Historic State Theater":MAILTO:contact@thestate270.org
END:VEVENT
END:VCALENDAR