BEGIN:VCALENDAR
VERSION:2.0
PRODID:-//City of Elizabethtown - ECPv6.15.20//NONSGML v1.0//EN
CALSCALE:GREGORIAN
METHOD:PUBLISH
X-ORIGINAL-URL:https://elizabethtownky.org
X-WR-CALDESC:Events for City of Elizabethtown
REFRESH-INTERVAL;VALUE=DURATION:PT1H
X-Robots-Tag:noindex
X-PUBLISHED-TTL:PT1H
BEGIN:VTIMEZONE
TZID:UTC
BEGIN:STANDARD
TZOFFSETFROM:+0000
TZOFFSETTO:+0000
TZNAME:UTC
DTSTART:20180101T000000
END:STANDARD
END:VTIMEZONE
BEGIN:VEVENT
DTSTART;TZID=UTC:20260414T180000
DTEND;TZID=UTC:20260414T190000
DTSTAMP:20260423T210524
CREATED:20190114T215852Z
LAST-MODIFIED:20190114T215852Z
UID:5080-1776189600-1776193200@elizabethtownky.org
SUMMARY:Elizabethtown Planning Commission
DESCRIPTION:The Planning Commission prepares the Comprehensive Plan under the procedures of state law for the community to use in the development of local land use regulations such as the Zoning Ordinance and Subdivision Regulations. The five-member Commission also holds hearings for map amendment requests and zoning text amendments and conducts commercial design review for development projects. \nMeetings \nMeetings are held the second and fourth Tuesday of each month at 6 p.m. in the Pritchard Community Center.  \nContact \nDepartment of Planning & Development\n270-765-6121
URL:https://elizabethtownky.org/event/elizabethtown-planning-commission/2026-04-14/
LOCATION:Pritchard Community Center\, 404 S Mulberry Street\, Elizabethtown\, KY\, 42701\, United States
CATEGORIES:Board Meetings
END:VEVENT
BEGIN:VEVENT
DTSTART;TZID=UTC:20260401T090000
DTEND;TZID=UTC:20260401T100000
DTSTAMP:20260423T210524
CREATED:20190114T220156Z
LAST-MODIFIED:20190114T220156Z
UID:5050-1775034000-1775037600@elizabethtownky.org
SUMMARY:Elizabethtown Tourism & Convention Bureau
DESCRIPTION:The Elizabethtown Tourism & Convention Bureau promotes convention and tourist activity in the community. The bureau is funded through the local transient room and restaurant taxes. More information on local community attractions can be found at www.touretown.com. \nMeetings \nMeetings are held the first Wednesday of each month at 9 a.m. at Elizabethtown Tourism & Convention Bureau office\, 1030 North Mulberry Street. \nContact \nElizabethtown Tourism & Convention Bureau\n270-765-2175
URL:https://elizabethtownky.org/event/elizabethtown-tourism-convention-bureau/2026-04-01/
LOCATION:Elizabethtown Tourism & Convention Bureau\, 1030 North Mulberry St.\, Elizabethtown\, KY\, 42701\, United States
CATEGORIES:Board Meetings
END:VEVENT
BEGIN:VEVENT
DTSTART;TZID=UTC:20220518T170000
DTEND;TZID=UTC:20220518T183000
DTSTAMP:20260423T210524
CREATED:20220510T144508Z
LAST-MODIFIED:20220510T145611Z
UID:3015-1652893200-1652898600@elizabethtownky.org
SUMMARY:FEMA Map Revision Public Meeting
DESCRIPTION:The meeting will be held at Pritchard Community Center.
URL:https://elizabethtownky.org/event/fema-map-revision-public-meeting/
CATEGORIES:Board Meetings,Event
END:VEVENT
BEGIN:VEVENT
DTSTART;TZID=UTC:20220308T180000
DTEND;TZID=UTC:20220308T190000
DTSTAMP:20260423T210524
CREATED:20190114T215852Z
LAST-MODIFIED:20200324T151316Z
UID:1599-1646762400-1646766000@elizabethtownky.org
SUMMARY:Elizabethtown Planning Commission
DESCRIPTION:The Planning Commission prepares the Comprehensive Plan under the procedures of state law for the community to use in the development of local land use regulations such as the Zoning Ordinance and Subdivision Regulations. The five-member Commission also holds hearings for map amendment requests and zoning text amendments and conducts commercial design review for development projects. \nMeetings \nMeetings are held the second and fourth Tuesday of each month at 6 p.m. in the Council Chambers at City Hall. \nContact \nDepartment of Planning & Development\n270-765-6121
URL:https://elizabethtownky.org/event/elizabethtown-planning-commission-2022-03-08/
LOCATION:City Chambers\, City Hall\, 200 West Dixie Ave\, Elizabethtown\, KY\, 42701\, United States
CATEGORIES:Board Meetings
END:VEVENT
BEGIN:VEVENT
DTSTART;TZID=UTC:20190207T090000
DTEND;TZID=UTC:20190207T100000
DTSTAMP:20260423T210524
CREATED:20190114T213505Z
LAST-MODIFIED:20190114T213726Z
UID:533-1549530000-1549533600@elizabethtownky.org
SUMMARY:Historic Preservation Commission
DESCRIPTION:The purpose of the Historic Preservation Commission is to effect and accomplish the preservation\, protection and use of the Historic District and individual landmarks\, which have a special character and historic\, architectural and cultural value to the City. The Commission promotes the educational\, cultural and economic aspects of the community’s historic buildings and safeguards the City’s history and heritage. The Historic Preservation Commission stabilizes and improves property values in the district and in the City\, as a whole. The Commission also fosters civic pride in the value of notable accomplishments of the past and protects and enhances the City’s attractions to residents and visitor. The five-member Commission reviews applications for the renovation of buildings within the district for compliance with building and property preservation standards and issues a Certificate of Appropriateness for the work to be performed.  \nMeetings \nMeetings are held the first Thursday at 9 a.m. in the Council Chambers at City Hall. \nContact \nDepartment of Planning & Development\n270-765-6121
URL:https://elizabethtownky.org/event/historic-preservation-commission/2019-02-07/
LOCATION:City Chambers\, City Hall\, 200 West Dixie Ave\, Elizabethtown\, KY\, 42701\, United States
CATEGORIES:Board Meetings
END:VEVENT
BEGIN:VEVENT
DTSTART;TZID=UTC:20190205T160000
DTEND;TZID=UTC:20190205T170000
DTSTAMP:20260423T210524
CREATED:20190114T212528Z
LAST-MODIFIED:20190114T212528Z
UID:520-1549382400-1549386000@elizabethtownky.org
SUMMARY:Board of Zoning Adjustment
DESCRIPTION:The Board of Zoning Adjustment is established under state law and the Elizabethtown Zoning Ordinance to consider Conditional Use Permits\, Variances and Administrative Appeals under the procedures of the Zoning Ordinance. The five-member citizen board utilizes the guidelines of the City’s Comprehensive Plan and the standards as established by KRS 100 to render its decisions.  \nMeetings \nMeetings are held the first Tuesday of each month at 4:00 p.m. in the Council Chambers at City Hall. \nContact \nDepartment of Planning & Development\n270-765-6121
URL:https://elizabethtownky.org/event/board-of-zoning-adjustment/2019-02-05/
LOCATION:City Chambers\, City Hall\, 200 West Dixie Ave\, Elizabethtown\, KY\, 42701\, United States
CATEGORIES:Board Meetings
END:VEVENT
BEGIN:VEVENT
DTSTART;TZID=UTC:20190115T173000
DTEND;TZID=UTC:20190115T183000
DTSTAMP:20260423T210524
CREATED:20190114T212824Z
LAST-MODIFIED:20190114T212824Z
UID:528-1547573400-1547577000@elizabethtownky.org
SUMMARY:Code Enforcement Board
DESCRIPTION:The Code Enforcement Board supports the City’s program to protect\, promote and improve the health\, safety and welfare of the citizens residing in Elizabethtown. The board conducts hearings on the enforcement of a variety of City ordinances to gain and assuring that the enforcement of the ordinances by the City administrative staff is fair. The board may issue remedial orders and impose civil fines in order to provide an equitable\, expeditious\, effective and inexpensive method of code enforcement by the City. \nMeetings \nMeetings are held the third Tuesday of each month at 5:30 p.m. in the Council Chambers at City Hall. \nContact \nDepartment of Planning & Development\n270-765-6121
URL:https://elizabethtownky.org/event/code-enforcement-board/2019-01-15/
LOCATION:City Chambers\, City Hall\, 200 West Dixie Ave\, Elizabethtown\, KY\, 42701\, United States
CATEGORIES:Board Meetings
END:VEVENT
END:VCALENDAR